BEGIN:VCALENDAR
VERSION:2.0
PRODID:-//ChamberMaster//Event Calendar 2.0//EN
METHOD:PUBLISH
X-PUBLISHED-TTL:P1H
REFRESH-INTERVAL:P1H
CALSCALE:GREGORIAN
BEGIN:VTIMEZONE
TZID:America/New_York
BEGIN:DAYLIGHT
RRULE:FREQ=YEARLY;BYMONTH=3;BYDAY=2SU
DTSTART:20070101T000000
TZOFFSETFROM:-0500
TZOFFSETTO:-0400
TZNAME:Eastern Daylight Time
END:DAYLIGHT
BEGIN:STANDARD
RRULE:FREQ=YEARLY;BYMONTH=11;BYDAY=1SU
DTSTART:20070101T000000
TZOFFSETFROM:-0400
TZOFFSETTO:-0500
TZNAME:Eastern Standard Time
END:STANDARD
END:VTIMEZONE
BEGIN:VEVENT
DTSTART;TZID=America/New_York:20260430T150000
DTEND;TZID=America/New_York:20260430T160000
X-MICROSOFT-CDO-ALLDAYEVENT:FALSE
SUMMARY:AI-Powered Commercial Trade Area Insights That Go Beyond the Property with RPR
DESCRIPTION:
X-ALT-DESC;FMTTYPE=text/html:
LOCATION:609 Weisgarber Road Knoxville TN 37919
UID:e.2665.1444812
SEQUENCE:3
DTSTAMP:20260419T133719Z
URL:https://members.etnrealtors.com/education-calendar/Details/ai-powered-commercial-trade-area-insights-that-go-beyond-the-property-with-rpr-1711208?sourceTypeId=Hub
END:VEVENT
END:VCALENDAR
